BEGIN:VCALENDAR
VERSION:2.0
PRODID:-//wp-events-plugin.com//7.2.3.1//EN
TZID:Europe/Rome
X-WR-TIMEZONE:Europe/Rome
BEGIN:VEVENT
UID:22@parrocchiasantamariaaltofonte.it
DTSTART;TZID=Europe/Rome:20240202T210000
DTEND;TZID=Europe/Rome:20240202T220000
DTSTAMP:20240125T113211Z
URL:https://www.parrocchiasantamariaaltofonte.it/events/festa-della-candel
 ora-2-febraio-2024/
SUMMARY:FESTA DELLA CANDELORA - 2 FEBRAIO 2024
DESCRIPTION:\n\nPer maggiori informazioni clicca qui
CATEGORIES:Attività-Eventi
LOCATION:Parrocchia Arcipretura Santa Maria d’Altofonte\, Piazza Falcone 
 e Borsellino\, Altofonte\, PA\, 90030\, Sicilia\, Italia
X-APPLE-STRUCTURED-LOCATION;VALUE=URI;X-ADDRESS=Piazza Falcone e Borsellino
 \, Altofonte\, PA\, 90030\, Sicilia\, Italia;X-APPLE-RADIUS=100;X-TITLE=Pa
 rrocchia Arcipretura Santa Maria d’Altofonte:geo:0,0
END:VEVENT
BEGIN:VTIMEZONE
TZID:Europe/Rome
X-LIC-LOCATION:Europe/Rome
BEGIN:STANDARD
DTSTART:20231029T020000
TZOFFSETFROM:+0200
TZOFFSETTO:+0100
TZNAME:CET
END:STANDARD
END:VTIMEZONE
END:VCALENDAR