BEGIN:VCALENDAR
VERSION:2.0
PRODID:-//wp-events-plugin.com//7.2.3.1//EN
TZID:Europe/Rome
X-WR-TIMEZONE:Europe/Rome
BEGIN:VEVENT
UID:11@parrocchiasantamariaaltofonte.it
DTSTART;TZID=Europe/Rome:20231229T163000
DTEND;TZID=Europe/Rome:20231229T183000
DTSTAMP:20231214T095621Z
URL:https://www.parrocchiasantamariaaltofonte.it/events/celebrazioni-del-n
 atale-6/
SUMMARY:Celebrazioni del Natale
DESCRIPTION:\nVENERDI' 29 DICEMBRE\nOre 16:30 - Adorazione eucaristica\nOre
  17:30 - Vespri - S. Messa
CATEGORIES:Attività-Eventi
LOCATION:Parrocchia Arcipretura Santa Maria d’Altofonte\, Piazza Falcone 
 e Borsellino\, Altofonte\, PA\, 90030\, Sicilia\, Italia
X-APPLE-STRUCTURED-LOCATION;VALUE=URI;X-ADDRESS=Piazza Falcone e Borsellino
 \, Altofonte\, PA\, 90030\, Sicilia\, Italia;X-APPLE-RADIUS=100;X-TITLE=Pa
 rrocchia Arcipretura Santa Maria d’Altofonte:geo:0,0
END:VEVENT
BEGIN:VTIMEZONE
TZID:Europe/Rome
X-LIC-LOCATION:Europe/Rome
BEGIN:STANDARD
DTSTART:20231029T020000
TZOFFSETFROM:+0200
TZOFFSETTO:+0100
TZNAME:CET
END:STANDARD
END:VTIMEZONE
END:VCALENDAR